Package: specL Version: 1.43.0 Command: rm -rf specL.buildbin-libdir && mkdir specL.buildbin-libdir && /Users/biocbuild/BBS/utils/build-universal.sh specL_1.43.0.tar.gz /Library/Frameworks/R.framework/Resources/bin/R specL.buildbin-libdir StartedAt: 2025-07-14 01:22:42 -0400 (Mon, 14 Jul 2025) EndedAt: 2025-07-14 01:22:54 -0400 (Mon, 14 Jul 2025) EllapsedTime: 11.6 seconds RetCode: 0 Status: OK PackageFile: specL_1.43.0.tgz PackageFileSize: 2.348 MiB