Package: spatzie Version: 1.15.0 Command: /home/biocbuild/R/R/bin/R CMD check --install=check:spatzie.install-out.txt --library=/home/biocbuild/R/R/site-library --no-vignettes --timings spatzie_1.15.0.tar.gz StartedAt: 2025-07-22 12:00:28 -0000 (Tue, 22 Jul 2025) EndedAt: 2025-07-22 12:08:47 -0000 (Tue, 22 Jul 2025) EllapsedTime: 498.6 seconds RetCode: 0 Status: OK CheckDir: spatzie.Rcheck Warnings: 0