Package: spatzie Version: 1.15.0 Command: /home/biocbuild/R/R/bin/R CMD build --keep-empty-dirs --no-resave-data spatzie StartedAt: 2025-07-22 03:06:14 -0000 (Tue, 22 Jul 2025) EndedAt: 2025-07-22 03:07:23 -0000 (Tue, 22 Jul 2025) EllapsedTime: 69.0 seconds RetCode: 0 Status: OK PackageFile: spatzie_1.15.0.tar.gz PackageFileSize: 1.885 MiB