Package: spatzie Version: 1.15.0 Command: F:\biocbuild\bbs-3.22-bioc\R\bin\R.exe CMD check --no-multiarch --install=check:spatzie.install-out.txt --library=F:\biocbuild\bbs-3.22-bioc\R\library --no-vignettes --timings spatzie_1.15.0.tar.gz StartedAt: 2025-07-15 06:53:58 -0400 (Tue, 15 Jul 2025) EndedAt: 2025-07-15 07:01:54 -0400 (Tue, 15 Jul 2025) EllapsedTime: 475.4 seconds RetCode: 0 Status: OK CheckDir: spatzie.Rcheck Warnings: 0