Package: spatzie Version: 1.15.0 Command: rm -rf spatzie.buildbin-libdir && mkdir spatzie.buildbin-libdir && F:\biocbuild\bbs-3.22-bioc\R\bin\R.exe CMD INSTALL --build --library=spatzie.buildbin-libdir spatzie_1.15.0.tar.gz StartedAt: 2025-07-16 09:59:11 -0400 (Wed, 16 Jul 2025) EndedAt: 2025-07-16 10:00:26 -0400 (Wed, 16 Jul 2025) EllapsedTime: 75.2 seconds RetCode: 0 Status: OK PackageFile: spatzie_1.15.0.zip PackageFileSize: 2.412 MiB