Package: spatialHeatmap Version: 2.15.1 Command: /Library/Frameworks/R.framework/Resources/bin/R CMD check --install=check:spatialHeatmap.install-out.txt --library=/Library/Frameworks/R.framework/Resources/library --no-vignettes --timings spatialHeatmap_2.15.1.tar.gz StartedAt: 2025-07-15 21:36:27 -0400 (Tue, 15 Jul 2025) EndedAt: 2025-07-15 21:38:56 -0400 (Tue, 15 Jul 2025) EllapsedTime: 148.8 seconds RetCode: 0 Status: OK CheckDir: spatialHeatmap.Rcheck Warnings: 0