Package: spatialDE Version: 1.15.1 Command: /home/biocbuild/R/R/bin/R CMD build --keep-empty-dirs --no-resave-data spatialDE StartedAt: 2025-07-01 03:12:37 -0000 (Tue, 01 Jul 2025) EndedAt: 2025-07-01 03:15:10 -0000 (Tue, 01 Jul 2025) EllapsedTime: 153.1 seconds RetCode: 0 Status: OK PackageFile: spatialDE_1.15.1.tar.gz PackageFileSize: 2.514 MiB