Package: spatialDE Version: 1.15.1 Command: rm -rf spatialDE.buildbin-libdir && mkdir spatialDE.buildbin-libdir && F:\biocbuild\bbs-3.22-bioc\R\bin\R.exe CMD INSTALL --build --library=spatialDE.buildbin-libdir spatialDE_1.15.1.tar.gz StartedAt: 2025-05-09 09:44:28 -0400 (Fri, 09 May 2025) EndedAt: 2025-05-09 09:45:06 -0400 (Fri, 09 May 2025) EllapsedTime: 38.0 seconds RetCode: 0 Status: OK PackageFile: spatialDE_1.15.1.zip PackageFileSize: 2.17 MiB