Package: sparseMatrixStats Version: 1.21.0 Command: /home/biocbuild/R/R/bin/R CMD build --keep-empty-dirs --no-resave-data sparseMatrixStats StartedAt: 2025-07-15 03:09:37 -0000 (Tue, 15 Jul 2025) EndedAt: 2025-07-15 03:10:26 -0000 (Tue, 15 Jul 2025) EllapsedTime: 49.0 seconds RetCode: 0 Status: OK PackageFile: sparseMatrixStats_1.21.0.tar.gz PackageFileSize: 711 KiB