Package: sparseMatrixStats Version: 1.21.0 Command: chmod a+r sparseMatrixStats -R && F:\biocbuild\bbs-3.22-bioc\R\bin\R.exe CMD build --keep-empty-dirs --no-resave-data sparseMatrixStats StartedAt: 2025-07-15 22:14:16 -0400 (Tue, 15 Jul 2025) EndedAt: 2025-07-15 22:15:23 -0400 (Tue, 15 Jul 2025) EllapsedTime: 67.1 seconds RetCode: 0 Status: OK PackageFile: sparseMatrixStats_1.21.0.tar.gz PackageFileSize: 687.8 KiB