Package: spaSim Version: 1.11.0 Command: /home/biocbuild/R/R/bin/R CMD INSTALL spaSim StartedAt: 2025-06-30 20:52:53 -0000 (Mon, 30 Jun 2025) EndedAt: 2025-06-30 20:53:25 -0000 (Mon, 30 Jun 2025) EllapsedTime: 31.5 seconds RetCode: 0 Status: OK