Package: spaSim Version: 1.11.0 Command: /home/biocbuild/R/R/bin/R CMD check --install=check:spaSim.install-out.txt --library=/home/biocbuild/R/R/site-library --no-vignettes --timings spaSim_1.11.0.tar.gz StartedAt: 2025-07-01 11:57:10 -0000 (Tue, 01 Jul 2025) EndedAt: 2025-07-01 12:03:38 -0000 (Tue, 01 Jul 2025) EllapsedTime: 387.5 seconds RetCode: 1 Status: ERROR CheckDir: spaSim.Rcheck Warnings: NA