Package: spaSim Version: 1.11.0 Command: F:\biocbuild\bbs-3.22-bioc\R\bin\R.exe CMD INSTALL spaSim StartedAt: 2025-07-20 16:05:43 -0400 (Sun, 20 Jul 2025) EndedAt: 2025-07-20 16:06:23 -0400 (Sun, 20 Jul 2025) EllapsedTime: 39.7 seconds RetCode: 0 Status: OK