Package: spaSim Version: 1.11.0 Command: F:\biocbuild\bbs-3.22-bioc\R\bin\R.exe CMD check --no-multiarch --install=check:spaSim.install-out.txt --library=F:\biocbuild\bbs-3.22-bioc\R\library --no-vignettes --timings spaSim_1.11.0.tar.gz StartedAt: 2025-07-22 07:00:00 -0400 (Tue, 22 Jul 2025) EndedAt: 2025-07-22 07:06:01 -0400 (Tue, 22 Jul 2025) EllapsedTime: 360.4 seconds RetCode: 0 Status: OK CheckDir: spaSim.Rcheck Warnings: 0