Package: spaSim Version: 1.11.0 Command: chmod a+r spaSim -R && F:\biocbuild\bbs-3.22-bioc\R\bin\R.exe CMD build --keep-empty-dirs --no-resave-data spaSim StartedAt: 2025-07-20 22:15:11 -0400 (Sun, 20 Jul 2025) EndedAt: 2025-07-20 22:17:51 -0400 (Sun, 20 Jul 2025) EllapsedTime: 160.0 seconds RetCode: 0 Status: OK PackageFile: spaSim_1.11.0.tar.gz PackageFileSize: 1004 KiB