Package: spaSim Version: 1.11.0 Command: /Library/Frameworks/R.framework/Resources/bin/R CMD INSTALL spaSim StartedAt: 2025-07-21 15:26:59 -0400 (Mon, 21 Jul 2025) EndedAt: 2025-07-21 15:27:35 -0400 (Mon, 21 Jul 2025) EllapsedTime: 36.2 seconds RetCode: 0 Status: OK