Package: spaSim Version: 1.11.0 Command: /Library/Frameworks/R.framework/Resources/bin/R CMD check --install=check:spaSim.install-out.txt --library=/Library/Frameworks/R.framework/Resources/library --no-vignettes --timings spaSim_1.11.0.tar.gz StartedAt: 2025-07-21 23:49:26 -0400 (Mon, 21 Jul 2025) EndedAt: 2025-07-21 23:54:58 -0400 (Mon, 21 Jul 2025) EllapsedTime: 332.5 seconds RetCode: 0 Status: OK CheckDir: spaSim.Rcheck Warnings: 0