Package: spaSim Version: 1.11.0 Command: /Library/Frameworks/R.framework/Resources/bin/R CMD build --keep-empty-dirs --no-resave-data spaSim StartedAt: 2025-07-21 18:30:22 -0400 (Mon, 21 Jul 2025) EndedAt: 2025-07-21 18:32:17 -0400 (Mon, 21 Jul 2025) EllapsedTime: 115.2 seconds RetCode: 0 Status: OK PackageFile: spaSim_1.11.0.tar.gz PackageFileSize: 3.901 MiB