Package: spARI Version: 0.99.17 Command: /home/biocbuild/bbs-3.22-bioc/R/bin/R CMD check --install=check:spARI.install-out.txt --library=/home/biocbuild/bbs-3.22-bioc/R/site-library --timings spARI_0.99.17.tar.gz StartedAt: 2025-10-07 04:36:19 -0400 (Tue, 07 Oct 2025) EndedAt: 2025-10-07 04:39:45 -0400 (Tue, 07 Oct 2025) EllapsedTime: 205.2 seconds RetCode: 0 Status: OK CheckDir: spARI.Rcheck Warnings: 0