Package: spARI Version: 0.99.17 Command: /Library/Frameworks/R.framework/Resources/bin/R CMD INSTALL spARI StartedAt: 2025-10-07 15:22:37 -0400 (Tue, 07 Oct 2025) EndedAt: 2025-10-07 15:23:15 -0400 (Tue, 07 Oct 2025) EllapsedTime: 38.0 seconds RetCode: 0 Status: OK