Package: spARI Version: 0.99.17 Command: /Library/Frameworks/R.framework/Resources/bin/R CMD check --install=check:spARI.install-out.txt --library=/Library/Frameworks/R.framework/Resources/library --no-vignettes --timings spARI_0.99.17.tar.gz StartedAt: 2025-10-08 01:02:56 -0400 (Wed, 08 Oct 2025) EndedAt: 2025-10-08 01:06:04 -0400 (Wed, 08 Oct 2025) EllapsedTime: 187.7 seconds RetCode: 0 Status: OK CheckDir: spARI.Rcheck Warnings: 0