Package: spARI Version: 0.99.17 Command: /Library/Frameworks/R.framework/Resources/bin/R CMD INSTALL spARI StartedAt: 2025-10-06 15:13:13 -0400 (Mon, 06 Oct 2025) EndedAt: 2025-10-06 15:13:24 -0400 (Mon, 06 Oct 2025) EllapsedTime: 11.0 seconds RetCode: 0 Status: OK