Package: spARI Version: 0.99.17 Command: /Library/Frameworks/R.framework/Resources/bin/R CMD check --install=check:spARI.install-out.txt --library=/Library/Frameworks/R.framework/Resources/library --no-vignettes --timings spARI_0.99.17.tar.gz StartedAt: 2025-10-07 21:56:18 -0400 (Tue, 07 Oct 2025) EndedAt: 2025-10-07 21:57:22 -0400 (Tue, 07 Oct 2025) EllapsedTime: 63.7 seconds RetCode: 0 Status: OK CheckDir: spARI.Rcheck Warnings: 0