Package: spARI Version: 0.99.17 Command: rm -rf spARI.buildbin-libdir && mkdir spARI.buildbin-libdir && /Users/biocbuild/BBS/utils/build-universal.sh spARI_0.99.17.tar.gz /Library/Frameworks/R.framework/Resources/bin/R spARI.buildbin-libdir StartedAt: 2025-10-06 23:01:37 -0400 (Mon, 06 Oct 2025) EndedAt: 2025-10-06 23:01:49 -0400 (Mon, 06 Oct 2025) EllapsedTime: 12.2 seconds RetCode: 0 Status: OK PackageFile: spARI_0.99.17.tgz PackageFileSize: 404.2 KiB