Package: sosta Version: 1.1.1 Command: /home/biocbuild/R/R/bin/R CMD check --install=check:sosta.install-out.txt --library=/home/biocbuild/R/R/site-library --no-vignettes --timings sosta_1.1.1.tar.gz StartedAt: 2025-10-03 11:48:01 -0000 (Fri, 03 Oct 2025) EndedAt: 2025-10-03 11:55:43 -0000 (Fri, 03 Oct 2025) EllapsedTime: 462.6 seconds RetCode: 0 Status: OK CheckDir: sosta.Rcheck Warnings: 0