Package: soGGi Version: 1.41.1 Command: /home/biocbuild/R/R/bin/R CMD INSTALL soGGi StartedAt: 2025-10-02 21:26:06 -0000 (Thu, 02 Oct 2025) EndedAt: 2025-10-02 21:27:04 -0000 (Thu, 02 Oct 2025) EllapsedTime: 57.4 seconds RetCode: 0 Status: OK