Package: soGGi Version: 1.41.1 Command: /home/biocbuild/R/R/bin/R CMD check --install=check:soGGi.install-out.txt --library=/home/biocbuild/R/R/site-library --no-vignettes --timings soGGi_1.41.1.tar.gz StartedAt: 2025-10-03 11:47:29 -0000 (Fri, 03 Oct 2025) EndedAt: 2025-10-03 11:53:48 -0000 (Fri, 03 Oct 2025) EllapsedTime: 379.5 seconds RetCode: 1 Status: ERROR CheckDir: soGGi.Rcheck Warnings: NA