Package: snm Version: 1.57.0 Command: /home/biocbuild/R/R/bin/R CMD build --keep-empty-dirs --no-resave-data snm StartedAt: 2025-07-15 03:06:41 -0000 (Tue, 15 Jul 2025) EndedAt: 2025-07-15 03:09:13 -0000 (Tue, 15 Jul 2025) EllapsedTime: 152.2 seconds RetCode: 0 Status: OK PackageFile: snm_1.57.0.tar.gz PackageFileSize: 716.5 KiB