Package: snm Version: 1.57.0 Command: chmod a+r snm -R && F:\biocbuild\bbs-3.22-bioc\R\bin\R.exe CMD build --keep-empty-dirs --no-resave-data snm StartedAt: 2025-07-24 22:26:52 -0400 (Thu, 24 Jul 2025) EndedAt: 2025-07-24 22:28:56 -0400 (Thu, 24 Jul 2025) EllapsedTime: 124.4 seconds RetCode: 0 Status: OK PackageFile: snm_1.57.0.tar.gz PackageFileSize: 566.1 KiB