Package: snm Version: 1.57.0 Command: rm -rf snm.buildbin-libdir && mkdir snm.buildbin-libdir && F:\biocbuild\bbs-3.22-bioc\R\bin\R.exe CMD INSTALL --build --library=snm.buildbin-libdir snm_1.57.0.tar.gz StartedAt: 2025-07-25 10:21:59 -0400 (Fri, 25 Jul 2025) EndedAt: 2025-07-25 10:22:12 -0400 (Fri, 25 Jul 2025) EllapsedTime: 12.6 seconds RetCode: 0 Status: OK PackageFile: snm_1.57.0.zip PackageFileSize: 456.3 KiB