Package: snm Version: 1.57.0 Command: /Library/Frameworks/R.framework/Resources/bin/R CMD build --keep-empty-dirs --no-resave-data snm StartedAt: 2025-07-15 18:42:40 -0400 (Tue, 15 Jul 2025) EndedAt: 2025-07-15 18:44:33 -0400 (Tue, 15 Jul 2025) EllapsedTime: 113.0 seconds RetCode: 0 Status: OK PackageFile: snm_1.57.0.tar.gz PackageFileSize: 726 KiB