Package: snifter Version: 1.19.3 Command: /home/biocbuild/R/R/bin/R CMD INSTALL snifter StartedAt: 2025-07-21 20:33:17 -0000 (Mon, 21 Jul 2025) EndedAt: 2025-07-21 20:33:36 -0000 (Mon, 21 Jul 2025) EllapsedTime: 18.4 seconds RetCode: 0 Status: OK