Package: snifter Version: 1.19.3 Command: /home/biocbuild/R/R/bin/R CMD check --install=check:snifter.install-out.txt --library=/home/biocbuild/R/R/site-library --no-vignettes --timings snifter_1.19.3.tar.gz StartedAt: 2025-07-22 11:52:36 -0000 (Tue, 22 Jul 2025) EndedAt: 2025-07-22 11:54:32 -0000 (Tue, 22 Jul 2025) EllapsedTime: 115.1 seconds RetCode: 0 Status: OK CheckDir: snifter.Rcheck Warnings: 0