Package: snifter Version: 1.19.3 Command: /home/biocbuild/R/R/bin/R CMD build --keep-empty-dirs --no-resave-data snifter StartedAt: 2025-07-22 03:00:23 -0000 (Tue, 22 Jul 2025) EndedAt: 2025-07-22 03:01:05 -0000 (Tue, 22 Jul 2025) EllapsedTime: 42.0 seconds RetCode: 0 Status: OK PackageFile: snifter_1.19.3.tar.gz PackageFileSize: 624.5 KiB