Package: snifter Version: 1.19.3 Command: /Library/Frameworks/R.framework/Resources/bin/R CMD check --install=check:snifter.install-out.txt --library=/Library/Frameworks/R.framework/Resources/library --no-vignettes --timings snifter_1.19.3.tar.gz StartedAt: 2025-07-21 23:46:40 -0400 (Mon, 21 Jul 2025) EndedAt: 2025-07-21 23:49:04 -0400 (Mon, 21 Jul 2025) EllapsedTime: 144.2 seconds RetCode: 0 Status: OK CheckDir: snifter.Rcheck Warnings: 0