Package: snifter Version: 1.19.2 Command: /Library/Frameworks/R.framework/Resources/bin/R CMD build --keep-empty-dirs --no-resave-data snifter StartedAt: 2025-07-06 17:36:01 -0400 (Sun, 06 Jul 2025) EndedAt: 2025-07-06 17:36:18 -0400 (Sun, 06 Jul 2025) EllapsedTime: 17.2 seconds RetCode: 0 Status: OK PackageFile: snifter_1.19.2.tar.gz PackageFileSize: 896.2 KiB