Package: snifter Version: 1.19.2 Command: rm -rf snifter.buildbin-libdir && mkdir snifter.buildbin-libdir && /Users/biocbuild/BBS/utils/build-universal.sh snifter_1.19.2.tar.gz /Library/Frameworks/R.framework/Resources/bin/R snifter.buildbin-libdir StartedAt: 2025-07-06 22:35:08 -0400 (Sun, 06 Jul 2025) EndedAt: 2025-07-06 22:35:12 -0400 (Sun, 06 Jul 2025) EllapsedTime: 4.1 seconds RetCode: 0 Status: OK PackageFile: snifter_1.19.2.tgz PackageFileSize: 912.7 KiB