Package: snapcount Version: 1.21.0 Command: /home/biocbuild/R/R/bin/R CMD check --install=check:snapcount.install-out.txt --library=/home/biocbuild/R/R/site-library --no-vignettes --timings snapcount_1.21.0.tar.gz StartedAt: 2025-07-18 11:20:57 -0000 (Fri, 18 Jul 2025) EndedAt: 2025-07-18 11:29:25 -0000 (Fri, 18 Jul 2025) EllapsedTime: 507.4 seconds RetCode: 1 Status: ERROR CheckDir: snapcount.Rcheck Warnings: NA