Package: snapcount Version: 1.21.0 Command: /home/biocbuild/R/R/bin/R CMD build --keep-empty-dirs --no-resave-data snapcount StartedAt: 2025-07-18 03:13:32 -0000 (Fri, 18 Jul 2025) EndedAt: 2025-07-18 03:18:53 -0000 (Fri, 18 Jul 2025) EllapsedTime: 321.1 seconds RetCode: 0 Status: OK PackageFile: snapcount_1.21.0.tar.gz PackageFileSize: 581.6 KiB