Package: snapcount Version: 1.21.0 Command: /Library/Frameworks/R.framework/Resources/bin/R CMD INSTALL snapcount StartedAt: 2025-07-15 15:15:34 -0400 (Tue, 15 Jul 2025) EndedAt: 2025-07-15 15:15:47 -0400 (Tue, 15 Jul 2025) EllapsedTime: 13.4 seconds RetCode: 0 Status: OK