Package: snapcount Version: 1.21.0 Command: /Library/Frameworks/R.framework/Resources/bin/R CMD build --keep-empty-dirs --no-resave-data snapcount StartedAt: 2025-07-16 17:36:49 -0400 (Wed, 16 Jul 2025) EndedAt: 2025-07-16 17:37:58 -0400 (Wed, 16 Jul 2025) EllapsedTime: 69.8 seconds RetCode: 0 Status: OK PackageFile: snapcount_1.21.0.tar.gz PackageFileSize: 514 KiB