Package: smoppix Version: 1.1.4 Command: /Library/Frameworks/R.framework/Resources/bin/R CMD INSTALL smoppix StartedAt: 2025-07-11 15:14:48 -0400 (Fri, 11 Jul 2025) EndedAt: 2025-07-11 15:15:06 -0400 (Fri, 11 Jul 2025) EllapsedTime: 17.7 seconds RetCode: 0 Status: OK