Package: slingshot Version: 2.17.0 Command: /home/biocbuild/R/R/bin/R CMD INSTALL slingshot StartedAt: 2025-07-21 20:47:58 -0000 (Mon, 21 Jul 2025) EndedAt: 2025-07-21 20:48:31 -0000 (Mon, 21 Jul 2025) EllapsedTime: 33.5 seconds RetCode: 0 Status: OK