Package: slingshot Version: 2.17.0 Command: /home/biocbuild/R/R/bin/R CMD build --keep-empty-dirs --no-resave-data slingshot StartedAt: 2025-07-22 02:59:11 -0000 (Tue, 22 Jul 2025) EndedAt: 2025-07-22 03:00:17 -0000 (Tue, 22 Jul 2025) EllapsedTime: 66.1 seconds RetCode: 1 Status: ERROR PackageFile: None PackageFileSize: NA