Package: slingshot Version: 2.17.0 Command: F:\biocbuild\bbs-3.22-bioc\R\bin\R.exe CMD INSTALL slingshot StartedAt: 2025-07-24 16:26:11 -0400 (Thu, 24 Jul 2025) EndedAt: 2025-07-24 16:27:08 -0400 (Thu, 24 Jul 2025) EllapsedTime: 56.4 seconds RetCode: 0 Status: OK