Package: slingshot Version: 2.17.0 Command: /Library/Frameworks/R.framework/Resources/bin/R CMD build --keep-empty-dirs --no-resave-data slingshot StartedAt: 2025-07-22 18:30:51 -0400 (Tue, 22 Jul 2025) EndedAt: 2025-07-22 18:31:59 -0400 (Tue, 22 Jul 2025) EllapsedTime: 68.5 seconds RetCode: 0 Status: OK PackageFile: slingshot_2.17.0.tar.gz PackageFileSize: 2.264 MiB