Package: slingshot Version: 2.17.0 Command: rm -rf slingshot.buildbin-libdir && mkdir slingshot.buildbin-libdir && /Users/biocbuild/BBS/utils/build-universal.sh slingshot_2.17.0.tar.gz /Library/Frameworks/R.framework/Resources/bin/R slingshot.buildbin-libdir StartedAt: 2025-07-23 01:31:06 -0400 (Wed, 23 Jul 2025) EndedAt: 2025-07-23 01:31:46 -0400 (Wed, 23 Jul 2025) EllapsedTime: 39.4 seconds RetCode: 0 Status: OK PackageFile: slingshot_2.17.0.tgz PackageFileSize: 2.601 MiB