Package: slingshot Version: 2.17.0 Command: /Library/Frameworks/R.framework/Resources/bin/R CMD INSTALL slingshot StartedAt: 2025-07-22 15:12:55 -0400 (Tue, 22 Jul 2025) EndedAt: 2025-07-22 15:13:05 -0400 (Tue, 22 Jul 2025) EllapsedTime: 9.9 seconds RetCode: 0 Status: OK