Package: slingshot Version: 2.17.0 Command: /Library/Frameworks/R.framework/Resources/bin/R CMD build --keep-empty-dirs --no-resave-data slingshot StartedAt: 2025-07-22 17:37:03 -0400 (Tue, 22 Jul 2025) EndedAt: 2025-07-22 17:37:29 -0400 (Tue, 22 Jul 2025) EllapsedTime: 26.4 seconds RetCode: 0 Status: OK PackageFile: slingshot_2.17.0.tar.gz PackageFileSize: 2.279 MiB