Package: slingshot Version: 2.17.0 Maintainer: Kelly Street MaintainerEmail: street.kelly at gmail.com git_url: https://git.bioconductor.org/packages/slingshot git_branch: devel git_last_commit: ce58857 git_last_commit_date: 2025-04-15 11:34:17 -0400 (Tue, 15 Apr 2025)